Workbook

Sheet PEG 2024
D1: Allegato 5)
C3: Comune di Porto Mantovano
C7: Piano degli Obiettivi 2024 - 2026
C10: SCHEDE OBIETTIVI
C14: VERIFICA FINALE 31.12.2024

Sheet elenco 2024
B1: Comune di Porto Mantovano
B2: elenco obiettivi 2024 - 2026
A5: NUMERO | B5: DESCRIZIONE | C5: RESPONSABILE | D5: PERCENTUALE ATTUAZIONE al 31.10.2024 | E5: PERCENTUALE ATTUAZIONE al 31.12.2024
A6: 1 | B6: ='scheda obiettivo 2023 codice'!C5 -> Attività di formazione e di aggiornamento normativo, in materia di appalti pubblici allo scopo di garantire il corretto svolgimento delle procedure in conformità al NUOVO CODICE DEI CONTRATTI | C6: Dott.ssa Bianca Meli / Avv. Paolo Coppola | D6: 70% - riprogrammato al 31.12.2024 | E6: 1
A7: 2 | B7: ='scheda obiettivo 2023 PNRR'!C5 -> coordinamento e presidio attività di reperimento e gestione dei finanziamenti del PNRR/PNC e monitoraggio adempimenti e utilizzo Fondi PNRR-Statali-Regionali | C7: Dott.ssa Bianca Meli / Avv. Paolo Coppola | D7: 0.9 | E7: 1
A8: 3 | B8: ='tempi medi pagamento'!C5 -> MONITORAGGIO TEMPESTIVITA' DEI PAGAMENTI E DEL DEBITO MEDIO COMMERCIALE | C8: Dott.ssa Bianca Meli / Avv. Paolo Coppola | D8: 0.9 | E8: 1
A9: 4 | B9: ='scheda obiettivo (già 2022 23)'!C5 -> Gestione documentale: cartacea e informatica. Continuazione | C9: Dott.ssa Sara Badari | D9: 1 | E9: 1
A10: 5 | B10: ='scheda obiettivo (già 2022 23) '!C5 -> Syllabus Continuazione | C10: Dott.ssa Sara Badari | D10: attività in corso | E10: 100
A11: 6 | B11: ='scheda obiettivo (già 2023)'!C5 -> POTENZIAMENTO DEI SERVIZI DEMOGRAFICI (continuazione) | C11: Dott.ssa Sara Badari | D11: attività in corso | E11: 100
A12: 7 | B12: ='1 - del bon regolamenti'!C4 -> REVISIONE E DEFINZIONE DELLE PROCEDURE DI ACCERTAMENTO - AGGIORNAMENTO DEI REGOLAMENTI TRIBUTARI VIGENTI IN BASE ALLA NUOVA NORMATIVA TRIBUTARIA | C12: Dott.ssa Angela Del Bon | D12: 0.9 | E12: 1
A13: 8 | B13: ='4- PNRR e finanziamenti'!C5 -> SUPPORTARE LE ATTIVITA' DEI SETTORI AL FINE DI MIGLIORARE LA PARTECIPAZIONE DELL'ENTE AI FINANZIAMENTI A FONDO PERDUTO E DEL PNRR E ALLA GESTIONE DEI FINANZIAMENTI A FONDO PERDUTO E DEL PNRR IN LNEA CON LE PRIORITA' DELLA UE | C13: Dott.ssa Angela Del Bon | D13: 1 | E13: 1
A14: 9 | B14: ='scheda obiettivo 2022 spazi com'!C5 -> Tutela e valorizzazione dei beni e delle attività culturali e promozione degli spazi di comunità del nostro Comune | C14: Dott.ssa Emanuela Dal Bosco | D14: realizzata al 100% la fase progettuale - riprogrammate le altre fasi al 2025 | E14: realizzata al 100% la fase progettuale - riprogrammate le altre fasi al 2025
A15: 10 | B15: ='scheda obiettivo 2022 valoriz'!C5 -> Tutela e valorizzazione dei beni e delle attività culturali | C15: Dott.ssa Emanuela Dal Bosco | D15: realizzata al 100% la fase progettuale - riprogrammate le altre fasi al 2025 | E15: realizzata al 100% la fase progettuale - riprogrammate le altre fasi al 2025
A16: 11 | B16: ='scheda obiettivo 2022 telefonia'!C5 -> Miglioramento in termini di efficienza ed efficacia dell'infrastruttura tecnologiche dell'Ente ai fini della connettivià internet e telefonia | C16: Dott.ssa Emanuela Dal Bosco | D16: realizzata al 100% la fase progettuale - riprogrammate le altre fasi al 2025 | E16: realizzata al 100% la fase progettuale - riprogrammate le altre fasi al 2025
A17: 12 | B17: ='scheda obiettivo 2022 PNRR DIGI'!C5 -> Implementazione dei servizi previsti dai bandi PNRR digitale | C17: Dott.ssa Emanuela Dal Bosco | D17: attuati gli obiettivi PNRR come da cronoprogramma | E17: 1
A18: 13 | B18: ='scheda obiettivo 1 2024'!C5 -> SERVIZIO DI TRASPORTO SCOLASTICO. NUOVO AFFIDAMENTO | C18: Dott.ssa Katia Puttini | D18: 1 | E18: 1
A19: 14 | B19: ='scheda obiettivo 2 2024 '!C5 -> NUOVA ATTIVAZIONE SERVIZIO PEDIBUS E BICIBUS | C19: Dott.ssa Katia Puttini | D19: 1 | E19: 1
A20: 15 | B20: ='scheda obiettivo 3 2024'!C5 -> NUOVO AFFIDAMENTO PER I SERVIZI DI ASSISTENZA SCOLASTICA AD PERSONAM, PRE SCUOLA, POST SCUOLA, ASSISTENZA DURANTE IL PASTO | C20: Dott.ssa Katia Puttini | D20: 1 | E20: 1
A21: 16 | B21: ='1 - moffa pgt'!C4 -> FASE SUCCESSIVA ALL'APPROVAZIONE DEL PGT E GESTIONE PIANI ATTUATIVI | C21: Arch. Rosanna Moffa | D21: 0.9 | E21: 1
A22: 17 | B22: ='2 - moffa uso sottosuolo'!C4 -> Adempimenti di cui al capo II della L.R. 7/2012 "Disciplina comunale del sottosuolo": redazione del REGOLAMENTO PER L'USO DEL SOTTOSUOLO e formazione del catasto del sottosuolo | C22: Arch. Rosanna Moffa | D22: RINVIATO AL 2025 | E22: RINVIATO AL 2025
A23: 18 | B23: ='3 - moffa opere pubbliche'!C4 -> REALIZZAZIONE OPERE PUBBLICHE STRATEGICHE PER LA SICUREZZA E LO SVILUPPO DEL TERRITORIO | C23: Arch. Rosanna Moffa | D23: 0.9 | E23: 1
A24: 19 | B24: ='4 - moffa OPERE PNRR'!C4 -> REALIZZAZIONE OPERE PUBBLICHE STRATEGICHE PER LA SICUREZZA E LO SVILUPPO DEL TERRITORIO (opere PNRR) | C24: Arch. Rosanna Moffa | D24: 0.9 | E24: 1
A25: 20 | B25: ='5 - moffa sviluppo sostenibile'!C4 -> PROGETTI PER LO SVILUPPO SOSTENIBILE DEL TERRITORIO COMUNALE: GESTIONE CALORE CON EFFICIENTAMENTO ENERGETICO - STUDIO COMUNALE DI GESTIONE DEL RISCHIO IDRAULICO - BANDO CARIPLO STRATEGIA CLIMA - POTENZIAMENTO E AMPLIAMENTO DEL PATRIMONIO ARBOREO - COMUNITA' ENERGETICHE | C25: Arch. Rosanna Moffa | D25: 0.9 | E25: 1
A26: 21 | B26: ='BONIOTTI 1 - 2024'!C5 -> Ammodernamento e potenziamento della videosorveglianza | C26: Dott.ssa Simonetta Boniotti | D26: 0.5 | E26: 0.5
A27: 22 | B27: ='BONIOTTI 2-2024'!C5 -> Educare alla legalità e alla sicurezza sulla strada | C27: Dott.ssa Simonetta Boniotti | D27: 0.8 | E27: 1

Sheet MELI -  COPPOLA 
C3: Comune di Porto Mantovano
C7: Piano degli Obiettivi 2024 - 2026
B15: SEGRETARIO GENERALE
C16: DOTT.SSA BIANCA MELI
C17: da 1/10/2024 AVV. PAOLO COPPOLA

Sheet scheda obiettivo 2023 codice
A1: Area ___________________________ Settore: SEGRETERIA GENERALE
A2: RESPONSABILE:
A3: PESO IN %
A5: MISSIONE: PROGRAMMA: | B5: OBIETTIVO N. 1 - 2024 | C5: Attività di formazione e di aggiornamento normativo, in materia di appalti pubblici allo scopo di garantire il corretto svolgimento delle procedure in conformità al NUOVO CODICE DEI CONTRATTI
A6: OBIETTIVO DUP 2019 - 2024 | C6: obeittivi trasversali
A9: A.1 | B9: DESCRIZIONE | C9: L'obiettivo consiste nell'organizzare e svrintendere l'attività di formazione e aggiornamento normativo in materia di appalti pubblici con riferimento al nuovo codice dei contratti approvato con il D. lgs. 36/2023. L'attività di formazione e la collaborazione rivolta a tutti i settori dell’Ente, in particolare attraverso la diffusione di seminari formativi svolti anche in modalità e-learning.
A10: A.2 | B10: FINALITA' | C10: Formazione e collaborazione con tutti i settori nella gestione delle procedure di affidamento di servizi, forniture e lavori.
A12: A.3 | B12: AZIONI E TEMPI - FASI | C12: costante: Attività di formazione e aggiornamento normativo anche in modalità e-learning - SI
C13: costante: collaborazione con tutti i settori nella gestione delle procedure di affidamento di servizi, forniture e lavori - SI
A16: A.4 | B16: DATA PRESUMIBILE REALIZZO | C16: entro 30/06/2024 - rinviata al 31/12/2024
A18: A.5 | B18: RESPONSABILE DELL'OBIETTIVO | C18: DOTT.SSA BIANCA MELI - SEGRETARIA GENERALE DELL'ENTE - dall'1/10/2024 AVV. PAOLO COPPOLA
A20: A.6 | B20: PERSONALE DELL'AREA COINVOLTO
A22: A.7 | B22: ALTRI SERVIZI COINVOLTI | C22: TUTTI I RESPONSABILI DI SERVIZIO
A24: A.8 | B24: RISORSE FINANZIARIE
A26: A.9 | B26: INDICATORI DI EFFICIENZA | C26: Incontri formativi: incontri effettuati / incontri programmati - n. 3 incontri programmati - SI, analisi delle novità anche in occasione delle riunioni del comitato di Direzione durante i quali sono state esaminate le novità normative introdotte dal correttivo del codice dei contratti, in particolare sulla qualificazione ANAC dell'Ente.
A28: A.9 | B28: INDICATORI DI EFFICACIA | C28: Numero di collaborazioni richieste: 100% delle richieste - E' STAT DATO SEGUITO A TUTTE LE RICHIESTE DI COLLABORAZIONE verificando con il Segretario i bandi e le procedure di affidamento - adesione alla CUC di Brescia - STP Valle Trompia dal mese di novembre 2025
A30: A.9 | B30: INDICATORI DI ECONOMICITA'
A33: A,10 | B33: CRITICITA'
A35: A.11 | B35: VERIFICHE | C35: Verifica intermedia: realizzato al 70%
C36: Verifica finale: realizzato al 100%
C38: Il Responsabile - Il Segretario Generale
C39: Dott.ssa Bianca Meli - da 1/10/2025 Avv. Paolo Coppola

Sheet scheda obiettivo 2023 PNRR
A1: Area ___________________________ Settore: SEGRETERIA GENERALE
A2: RESPONSABILE:
A3: PESO IN %
A5: MISSIONE: PROGRAMMA: | B5: OBIETTIVO N. 2 - 2024 | C5: coordinamento e presidio attività di reperimento e gestione dei finanziamenti del PNRR/PNC e monitoraggio adempimenti e utilizzo Fondi PNRR-Statali-Regionali
A6: OBIETTIVO DUP 2019 - 2024 | C6: obeittivi trasversali
A9: A.1 | B9: DESCRIZIONE | C9: Per rilanciarne l'economia e permettere lo sviluppo verde e digitale del Paese lo Stato Italiano ha predisposto il Piano Nazionale di Ripresa e Resilienza (PNRR; in inglese Recovery and Resilience Plan, abbreviato in Recovery Plan o RRP). Il PNRR fa parte del programma dell'Unione europea noto come Next Generation EU, un fondo per la ripresa europea (Recovery Fund), cioè Fondo per la ripresa al fine di rilanciarne l'economia attraverso la realizzazione di investimenti e permettere lo sviluppo digitale del Paese. Nel DUP 2023 - 2025 sono state definite a livello di organizzazione interna le modalità di gestione del PNRR coinvolgendo i diversi settori dell'Ente interesati alla realizzazione e alla gestione amministrativa e contabile degli interventi del PNRR.
A10: A.2 | B10: FINALITA' | C10: Lo scopo di questo obiettivo è quallo conseguire gli obiettivi strategici fissati nel DUP 2023 - 2025 intercettando i finanziamenti necessari per la realizzazione degli interventi strategici, gestire in modo coordianto i progetti finanziati e rispettare i relativi cronoprogrammi definiti con la UE.
A12: A.3 | B12: AZIONI E TEMPI - FASI | C12: cotsante: Presidio costante delle attività riferite al PNRR - SI
C13: costante: riunioni con il gruppo di lavoro del PNRR - INDIVIDUATO NEL DUP - SI
C14: costante: verifica adempimenti PNRR: SI
A16: A.4 | B16: DATA PRESUMIBILE REALIZZO | C16: entro 30/06/2026
A18: A.5 | B18: RESPONSABILE DELL'OBIETTIVO | C18: DOTT.SSA BIANCA MELI - SEGRETARIA GENERALE DELL'ENTE - dall'1/10/2024 AVV. PAOLO COPPOLA
A20: A.6 | B20: PERSONALE DELL'AREA COINVOLTO
A22: A.7 | B22: ALTRI SERVIZI COINVOLTI | C22: RESPONSABILE DEL SETTORE TECNICO, RESPONSABILE DEL SETTORE INFORMATICO, RESPONSABILE SETTORE AMMINISTRATIVO, RESPONSABILE RAGIONERIA (vedasi gruppo lavoro definito con il PEG)
A24: A.8 | B24: RISORSE FINANZIARIE | C24: nessuna
A26: A.9 | B26: INDICATORI DI EFFICIENZA | C26: numero riunioni/numero riunioni effettive: riunioni con amministratori e responsabili in occasione delle riunioni del comitato di direzione
A28: A.9 | B28: INDICATORI DI EFFICACIA
A30: A.9 | B30: INDICATORI DI ECONOMICITA'
A33: A,10 | B33: CRITICITA'
A35: A.11 | B35: VERIFICHE | C35: Verifica intermedia: realizzato al 90%
C36: Verifica finale: realizzato al 100%
C38: Il Responsabile - Il Segretario Generale
C39: Dott.ssa Bianca Meli - da 1/10/2025 Avv. Paolo Coppola

Sheet tempi medi pagamento
A1: Area ___________________________ Settore: SEGRETERIA GENERALE
A2: RESPONSABILE:
A3: PESO IN %
A5: MISSIONE: 01 PROGRAMMA:03 | B5: OBIETTIVO N. 3 - 2024 | C5: MONITORAGGIO TEMPESTIVITA' DEI PAGAMENTI E DEL DEBITO MEDIO COMMERCIALE
A6: OBIETTIVO DUP 2019 - 2024 | C6: obeittivi trasversali
A9: A.1 | B9: DESCRIZIONE | C9: Uno degli obiettivi del PNRR - è quello di migliore l'organizzazione degli Enti affinchè le pubbliche amministrazioni paghino gli operatori economici entro il termine di 30 giorni (entro 60 giorni per le autorità sanitarie regionali). L’obiettivo si propone di mantenere lo stock del debito residuo al 31/12/2023 inferiore al 5% del debito medio commerciale dell'esrcizio e dei tempi medi di pagamento mantenendoli al di sotto dei 30 gg. con il fine di evitare l’accantonamento di risorse nella parte corrente del bilancio privando l’amministrazione del loro utilizzo.
A10: A.2 | B10: FINALITA' | C10: proseguire nel miglioramento delle procedure interne di pagamento responsabilizzando i responsabili, evitando l’accantonamento di risorse nella parte corrente del bilancio privando l’amministrazione del loro utilizzo
A12: A.3 | B12: AZIONI E TEMPI - FASI | C12: costante: Attività di monitoraggio della PCC e verifica eventuali discordanze con la contabilità dell'Ente - SI
C13: costante: trasmissione periodica ai raponsabili fatture pervenute e non pagate da parte del settore ragioneria
C14: trimestralmente: pubblicazione dei tempi medi di pagamento - SI
A16: A.4 | B16: DATA PRESUMIBILE REALIZZO | C16: entro 31/12/2024
A18: A.5 | B18: RESPONSABILE DELL'OBIETTIVO | C18: DOTT.SSA BIANCA MELI - SEGRETARIA GENERALE DELL'ENTE - dall'1/10/2024 AVV. PAOLO COPPOLA
A20: A.6 | B20: PERSONALE DELL'AREA COINVOLTO
A22: A.7 | B22: ALTRI SERVIZI COINVOLTI | C22: L'obiettivo riguarda tutte le Aree dell'ente e riveste la natura di obiettivo di performance organizzativa e coinvolge TUTTI I RESPONSABILI DI SERVIZIO E IL SERVIZIO RAGIONERIA
A24: A.8 | B24: RISORSE FINANZIARIE
A26: A.9 | B26: INDICATORI DI EFFICIENZA | C26: Stock del debito residuo al 31/12/2024: inferiore al 5% del totale dei documenti ricevuti - si pari allo 0,12%
C27: Tempi medi di pagamento: inferiori a 30 gg - SI PARI A 24 GG. (RITARDO DI 4 GG)
A28: A.9 | B28: INDICATORI DI EFFICACIA
A30: A.9 | B30: INDICATORI DI ECONOMICITA'
A33: A,10 | B33: CRITICITA'
A35: A.11 | B35: VERIFICHE | C35: Verifica intermedia: REALIZZATO AL 90%
C36: Verifica finale: REALIZZATO AL 100%
C38: Il Responsabile - Il Segretario Generale
C39: Dott.ssa Bianca Meli - da 1/10/2025 Avv. Paolo Coppola

Sheet badari
C3: Comune di Porto Mantovano
C7: Piano degli Obiettivi 2024 - 2026
B15: SETTORE AMMINISTRATIVO
C16: DOTT.SSA SARA BADARI

Sheet scheda obiettivo (già 2022 23)
A1: Settore Amministrativo
A2: RESPONSABILE: | B2: SARA BADARI
A3: PESO IN %
A5: MISSIONE: 1 PROGRAMMA: 1 | B5: OBIETTIVO N. 4 - 2024 | C5: Gestione documentale: cartacea e informatica. Continuazione
A6: OBIETTIVO DUP 2019 - 2024 | C6: Potenziare ulteriormente gli strumenti informatici in termini di fruibilità dei servizi, facilità di accesso agli stessi e trasparenza dell'azione amministrativa
A8: A.1 | C8: Italia digitale 2026 è il piano strategico per la transizione digitale e la connettività promosso dal Dipartimento per la trasformazione digitale. Il Piano, che raccoglie il 27% delle risorse di Italia domani, si sviluppa su due assi. Il primo asse (6,71 miliardi) riguarda le infrastrutture digitali e la connettività a banda ultra larga. Il secondo (6,74 miliardi) riguarda tutti quegli interventi volti a trasformare la Pubblica Amministrazione (PA) in chiave digitale. I due assi sono necessari per garantire che tutti i cittadini abbiano accesso a connessioni veloci per vivere appieno le opportunità che una vita digitale può e deve offrire e per migliorare il rapporto tra cittadino e pubblica amministrazione rendendo quest’ultima un alleato nella vita digitale dei cittadini.
A9: A.2 | B9: FINALITA' | C9: Digitalizzare e dematerializzare con adozione manuale di Gestione Documentale, miglioramento Protocollo Informatico. Rafforzare le conoscenze di base sul tema dei documenti informatici, sulla loro formazione e su come possano essere gestiti e conservati attraverso i sistemi di gestione documentale e di conservazione anche ai fini del PNRR
A11: A.3 | B11: AZIONI E TEMPI - FASI | C11: 31/03/2024: formazione uffici su gestione documentale 30/06/2024: sottoposizione del manuale di gestione documentale alla Soprintendenza archivistica 30/06/2024: fascicolazione digitale a cura di ciascun ufficio del Comune 31/12/2024: approvazione del Manuale di Gestione documentale
A13: A.4 | B13: DATA PRESUMIBILE REALIZZO | C13: 45657
A15: A.5 | B15: RESPONSABILE DELL'OBIETTIVO | C15: Badari Sara in collaborazione con servizi infomatici e di transizione al digitale
A17: A.6 | B17: PERSONALE DELL'AREA COINVOLTO | C17: tutti i dipendenti del settore amministrativo
A19: A.7 | B19: ALTRI SERVIZI COINVOLTI | C19: servizi informatici; tutti gli uffici dell'ente
A21: A.8 | B21: RISORSE FINANZIARIE
A23: A.9 | B23: INDICATORI DI EFFICIENZA
A25: A.9 | B25: INDICATORI DI EFFICACIA | C25: creazione fascicoli digitali per almeno 4 titoli del Piano di classificazione - Titolario
A27: A.9 | B27: INDICATORI DI ECONOMICITA'
A29: A,10 | B29: CRITICITA' | C29: Obiettivo strettamente legato al PNRR, al piano della digitalizzazione e della conservazione digitale da esaminare con il Responsabile della Transizione al Digitale e realizzare con il contributo di tutti i Responsabili di settore e di tutti i dipendenti
A31: A.11 | B31: VERIFICHE | C31: Verifica intermedia: REALIZZATO 100%. Creati fascicoli per 9 titoli del piano di classificazione
C32: Verifica finale: REALIZZATO 100%. Creati fascicoli per 9 titoli del piano di classificazione
C34: Il Responsabile di Posizione Organizzativa
C35: dott.ssa Sara Badari

Sheet scheda obiettivo (già 2022 23) 
A1: Settore Amministrativo
A2: RESPONSABILE: | B2: SARA BADARI
A3: PESO IN %
A5: MISSIONE: 1 PROGRAMMA: 1 | B5: OBIETTIVO N. 5 - 2024 | C5: Syllabus Continuazione
A6: OBIETTIVO DUP 2019 - 2024 | C6: Potenziare ulteriormente gli strumenti informatici in termini di fruibilità dei servizi, facilità di accesso agli stessi e trasparenza dell'azione amministrativa
A8: A.1 | B8: DESCRIZIONE | C8: Fornire una offerta formativa ampia, gratuita e costantemente aggiornata. Utile per migliorare le competenze dei dipendenti pubblici e per supportare i processi di innovazione delle amministrazioni, a partire da quelli relativi alla transizione digitale, ecologica e amministrativa. Utile per promuovere la formazione che affronti il tema delle violenze, molestie psicologiche e sessuali nei luoghi di lavoro
A9: A.2 | B9: FINALITA' | C9: migliorare le competenze digitali dei dipendenti del Comune di Porto Mantovano a supporto dei processi di innovazione della pubblica amministrazione e, più in generale, del miglioramento della qualità dei servizi erogati a cittadini e imprese, in armonia con la Direttiva del Ministro per la pubblica amministrazione del 24 marzo 2023, documento centrale per il rinnovamento della Pubblica Amministrazione, in linea con gli obiettivi del PNRR. Promuovere una formazione che affronti il tema delle violenze, molestie psicologiche e sessuali nei luoghi di lavoro, così come indicato dalla convenzione OIL (Organizzazione Internazionale del Lavoro) 190 ratificata il 29/10/2021 dall'Italia
A11: A.3 | B11: AZIONI E TEMPI - FASI | C11: 31/12/2024: attività di formazione digitale, transizione ecologica e amministrativa; formazione in materia violenze e molestie sul luogo di lavoro per assicurare la dignità e il rispetto di tutti
A13: A.4 | B13: DATA PRESUMIBILE REALIZZO | C13: 45657
A15: A.5 | B15: RESPONSABILE DELL'OBIETTIVO | C15: Badari Sara
A17: A.6 | B17: PERSONALE DELL'AREA COINVOLTO | C17: tutti i dipendenti del Comune
A19: A.7 | B19: ALTRI SERVIZI COINVOLTI | C19: Responsabili di settore del Comune di Porto Mantovano
A21: A.8 | B21: RISORSE FINANZIARIE
A23: A.9 | B23: INDICATORI DI EFFICIENZA
A25: A.9 | B25: INDICATORI DI EFFICACIA | C25: numero dipendenti che hanno seguito corsi di formazione Syllabus sul totale dei dipendenti (almeno 20%)
A27: A.9 | B27: INDICATORI DI ECONOMICITA'
A29: A,10 | B29: CRITICITA' | C29: Obiettivo utile per la realizzazione del piano della digitalizzazione e del PNRR
A31: A.11 | B31: VERIFICHE | C31: Verifica intermedia: in fase di realizzazione. Accreditati tutti i dipendenti in Syllabus
C32: Verifica finale: raggiunto al 100%
C34: Il Responsabile di Posizione Organizzativa
C35: dott.ssa Sara Badari

Sheet scheda obiettivo (già 2023)
A1: Settore Servizi Informatici e Settore Amministrativo
A2: RESPONSABILE: | B2: Badari
A3: PESO IN %
A5: MISSIONE: 1 PROGRAMMA: 1 | B5: OBIETTIVO N. 6 - 2024 | C5: POTENZIAMENTO DEI SERVIZI DEMOGRAFICI (continuazione)
A6: OBIETTIVO DUP | C6: Potenziare ulteriormente gli strumenti informatici in termini di fruibilità dei servizi, facilità di accesso agli stessi e trasparenza dell'azione amministrativa
A8: A.1 | B8: DESCRIZIONE | C8: l'obiettivo ha come scopo il miglioramento dei servizi demografici con: stato civile digitale ANSC; agenda condivisa appuntamenti allo sportello; pronta disponibilità (min. 2 ore) per decessi nei giorni feriali non lavorativi e nei giorni festivi per erogazione servizi essenziali entro due giorni; digitalizzazione ruoli matricolari liste di leva
A9: A.2 | B9: FINALITA' | C9: migliorare i servizi demografici usufrutiti dagli utenti esterni (pubblico, altre pubbliche amministrazioni, Stato, concessionari di pubblici servizi, ordini professionali, ecc)
A11: A.3 | B11: AZIONI E TEMPI - FASI | C11: 31/12/2024: agenda condivisa appuntamenti
C12: 31/12/2025 subentro stato civile in ANSC
C13: durante tutto il periodo: pronta disponibilità ufficiali satato civile per atti di morte
A15: A.4 | B15: DATA PRESUMIBILE REALIZZO | C15: 46022
A17: A.5 | B17: RESPONSABILE DELL'OBIETTIVO | C17: Responsabile servizi demografici
A19: A.6 | B19: PERSONALE DELL'AREA COINVOLTO | C19: servizi demografici: ufficiali di anagrafe e di stato civile
A21: A.7 | B21: ALTRI SERVIZI COINVOLTI
A23: A.8 | B23: RISORSE FINANZIARIE | C23: per la pronta disponibilità ufficiali di stato civile € 7,57 a giornata non lavorativa feriale ed € 10,00 a giornata festiva. Risorse attinte dal fondo produttività; contributi dello Stato per il subentro in ANPR, ANSC; risorse proprie dell'ente per adeguamenti software
A25: A.9 | B25: INDICATORI DI EFFICIENZA | C25: rispetto tempistiche A.3
A27: A.9 | B27: INDICATORI DI EFFICACIA | C27: digitalizzazione ruoli matricolari (almeno 10 anni)
A29: A.9 | B29: INDICATORI DI ECONOMICITA'
A32: A,10 | B32: CRITICITA'
A34: A.11 | B34: VERIFICHE | C34: Verifica intermedia: realizzata la fase "agenda condivisa appuntamenti"
C35: Verifica finale: realizzato al 100% per le fasi 2024
C37: I Responsabili di Posizione Organizzativa
C38: dott.ssa Badari Sara

Sheet del bon 
C3: Comune di Porto Mantovano
C7: PEG / PDO 2024 - 2026
B15: SETTORE RAGIONERIA - TRIBUTI - CONTROLLO DI GESTIONE
C16: DOTT.SSA ANGELA DEL BON

Sheet 1 - del bon regolamenti
A1: SETTORE RAGIONERIA - TRIBUTI - CONTROLLO DI GESTIONE - PARTECIPATE
A2: RESPONSABILE: | B2: ANGELA DEL BON
A4: MISSIONE: 1 PROGRAMMA: 4 | B4: OBIETTIVO N. 7 - 2024 | C4: REVISIONE E DEFINZIONE DELLE PROCEDURE DI ACCERTAMENTO - AGGIORNAMENTO DEI REGOLAMENTI TRIBUTARI VIGENTI IN BASE ALLA NUOVA NORMATIVA TRIBUTARIA
A6: OBIETTIVO DUP 2019 - 2024
A8: A.1 | B8: DESCRIZIONE | C8: Il D.L. 219/2023 pubblicato nella Gazzetta Ufficiale del 03.01.2024 n. 2, introduce importanti modifiche allo Statto del contribuente in attuazione della riforma fiscale. La legge delega di riforma fiscale prevede tra i principi e criteri direttivi specifici per la revisione dello Statuto dei diritti del contribuente quello di “valorizzare il principio del legittimo affidamento del contribuente e il principio di certezza del diritto”. In particolare l’articolo 6-bis della Legge n. 212/2000, recante lo Statuto dei diritti del contribuente, introdotto dall’articolo 1 del decreto legislativo n. 219/2023, prevede l’obbligo, per gran parte degli atti, di avviare un contraddittorio informato ed effettivo ai fini della partecipazione procedimentale, finalizzata all’emissione dell’avviso di accertamento esecutivo per il recupero dei tributi non versati. Tali norvità introdotte dal D.L. 2019/2023 richiedono in primo luogo una revisione dei regolamenti adottati dall'Ente e la definizione di nuove fasi per la gestione degli accertamenti tributari e per la gestione del contradditorio con il contribuente.
A9: A.2 | B9: FINALITA' | C9: Adeguamento normativo dei dei regolamenti e redazione di nuovi regolamenti coerenti con la vigente normativa. Aggiornamento e redazione del nuovo regolamento IMU ed eventuale aggiornamento regolamento entrate - revisione regolamento CUP
A11: A.3 | B11: AZIONI E TEMPI | C11: Studio della normativa IMU e entrate tributarie e patrimoniali: entro il 31/5/2024 - SI
C12: Studio normativa in materia di tariffa rifiuti e valutazione effetti sulla regolamentazione della tariffa delle direttive di ARERA - verifica della necessità di modifica del vigente regolamento: entro il 30/4/2024 - SI
C13: entro il 31/5/2024: adeguamento delle procedure e dei modelli dell'ufficio tributi - in corso
C14: costante: continuo aggiornamento delle informazioni contenute nella banca dati con verifiche mirate su alcune fattispecie di contribuenti - SI
C15: redazione nuovo regolamento IMU e adeguamento regolamento generale entrate: entro il 31/12/2024 - SI, per il 2024 è necessario il solo aggiornamento del regolamento entrate
C16: approvazione in consiglio comunale regolamenti IMU e Entrate (acquisizione parere del Collegio dei revisori, analisi in commissione regolamenti e approvazione in consiglio): entro la data fissata per l'approvazione del bilancio enti locali - IN CORSO, solo per regolamento entrate
C17: regolamento corrispettivo rifiuti: eventuale approvazione in consiglio comunale entro 30/4/2024 - nessuna modifica al regolamento deve essere apportata
C18: Aggiornamento in consiglio comunale del regolamento del canone unico (acquisizione parere del Collegio dei revisori, analisi in commissione regolamenti e approvazione in consiglio): entro la data fissata per l'approvazione del bilancio 2024 - SI, modificato nel mese di gennaio 2024
A19: A.4 | B19: DATA PRESUMIBILE REALIZZO | C19: termine : ENTRO IL 31/12/2024 o comunque entro la data di approvazione del bilancio
A21: A.5 | B21: RESPONSABILE DELL'OBIETTIVO | C21: Responsabile settore tributi
A23: A.6 | B23: PERSONALE DELL'AREA COINVOLTO | C23: servizio contabilità e tributi
A25: A.7 | B25: ALTRI SERVIZI COINVOLTI
A27: A.8 | B27: RISORSE FINANZIARIE | C27: nesuna
A29: A.9 | B29: INDICATORI DI EFFICIENZA | C29: redazione/aggiornamento dei regolamenti tributari entro la data fissata per legge: SI
A31: A.9 | B31: INDICATORI DI EFFICACIA | C31: redazione/aggiornamento dei regolamenti tributari entro la data fissata per legge: almeno 3: n. 3 regolamenti modificati o di nuova approvazione
A33: A.9 | B33: INDICATORI DI ECONOMICITA'
A36: A,10 | B36: CRITICITA' | C36: la normativa è in continua evoluzione e si resta in attesa di decreti attuativi
A38: A.11 | B38: VERIFICHE | C38: Verifica intermedia: REALIZZATO AL 90% - le proposte sono state redatte e dovranno essere approvate prima dell'approvazione del bilancio
C39: Verifica finale: realizzato al 100% entro la data di approvazione del bilancio 2024 (avvenuta il 30/12/2024).
C41: Il Responsabile di Posizione Organizzativa
C42: Dott.ssa Angela Del Bon

Sheet 4- PNRR e finanziamenti
A1: Settore RAGIONERIA, TRIBUTI, CONTROLLO DI GESTIONE E PARTECIPATE
A2: RESPONSABILE: | B2: DEL BON ANGELA
A3: PESO IN %
A5: MISSIONE: PROGRAMMA: | B5: OBIETTIVO N. 8 - 2024 | C5: SUPPORTARE LE ATTIVITA' DEI SETTORI AL FINE DI MIGLIORARE LA PARTECIPAZIONE DELL'ENTE AI FINANZIAMENTI A FONDO PERDUTO E DEL PNRR E ALLA GESTIONE DEI FINANZIAMENTI A FONDO PERDUTO E DEL PNRR IN LNEA CON LE PRIORITA' DELLA UE
A6: OBIETTIVO DUP 2019 - 2024 | B6: anni 2022 - 2023 - 2024 | C6: OBIETTIVI STRATEGICI DIVERSI DEL D.U.P. (inclusi nella missione 1 - 4 - 9 - 10) - LAVORI PUBBLICI - OPERE E INTERVENTI PNRR - GESTIONE DEL PNRR
A8: A.1 | B8: DESCRIZIONE | C8: L'obiettivo è quello di supportare l'ente e i diversi settori nell'attività di accesso alle opportunità di finanziamento offerte dall'Unione europea con il PNRR. Tramite il fondo pluriennale vincolato sarà possibile iscrivere a bilancio il conorporogramma delle opere e degli interventi secondo le tempistiche e le scadenze definiti dalla disciplina di ciascuna linea di finanziamento. Al fine di adempiere alle prescirizioni di legge e di agevolare la rendicontazione circa l'utilizzo dei fondi la contabilità dell'Ente dovrà garantire il tracciamento di ogni singolo finanziamento.
A9: A.2 | B9: FINALITA' | C9: gestione contabile dei finanziamenti PNRR e a fondo perduto.
A11: A.3 | B11: AZIONI E TEMPI - FASI | C11: entro il 31.12.2024 - COSTANTE: Collaborare con gli amministratori e i servizi dell'Ente nell'iscrizione a bilancio e nei documenti di programmazione delle progettualità finanziate a fondo perduto e dal PNRR - iscrizione nuove progettualità - EFFETTUARE VARIAZIONI DI BILANCIO, AGGIORNAMENTO DESCRIZIONE DEI CAPITOLI DEL PNRR COME DA INDICAZONI DELLA RGS, ESAME DELLA NECESSITA' DI COSTITUIRE LA CASSA VINCOLATA. ISCRIZIONE AL REGISTRO ReGIS - COTITUZIONE E GESTIONE FPV - COLLABORAZIONE CON I SETTORI IN FASE DI RENDICONTAZIONE - SI
C12: entro il 31.12.2024: gestione contabile e tracciamento dei finanziamenti del PNRR - SI
C13: entro il 31.12.2024: gestione della cassa vincolata - SI, aggiornata costantemente il vincolo del PNRR
C14: entro il 31.12.2024: supporto in fase di rendicontazione periodica e finale dell'utilizzo dei finanziamenti ottenuti - SI, costantemente
A16: A.4 | B16: DATA PRESUMIBILE REALIZZO | C16: 31.12.2024 (e comunque tenuto conto dei cronoprogrammi delle opere e dei singoli finanziamenti)
A18: A.5 | B18: RESPONSABILE DELL'OBIETTIVO | C18: Responsabile del settore ragioneria
A20: A.6 | B20: PERSONALE DELL'AREA COINVOLTO | C20: personale del settore ragioneria e tributi
A22: A.7 | B22: ALTRI SERVIZI COINVOLTI | C22: tutti i settori dell'Ente
A24: A.8 | B24: RISORSE FINANZIARIE | C24: nessuna spesa a carico dell'Ente per l'attuazione dell'obiettivo
A26: A.9 | B26: INDICATORI DI EFFICIENZA | C26: n. finanziamenti gestiti a bilancio: valore atteso 10 - n. 12 finanziamenti gestiti
A28: A.9 | B28: INDICATORI DI EFFICACIA
A30: A.9 | B30: INDICATORI DI ECONOMICITA'
A33: A,10 | B33: CRITICITA'
A35: A.11 | B35: VERIFICHE | C35: Verifica intermedia: realizzato al 100%
C36: Verifica finale: realizzato al 100%
C38: Il Responsabile di Posizione Organizzativa
C39: Dott.ssa Angela Del Bon

Sheet dal bosco 
C3: Comune di Porto Mantovano
C7: Piano degli Obiettivi 2024 - 2026
B15: SETTORE ATTIVITA' PRODUTTIVE - ATTIVITA' CULTURALI - SERVIZI INFORMATICI
C16: DOTT.SSA EMANUELA DAL BOSCO

Sheet scheda obiettivo 2022 spazi com
A1: Area Servizi Finanziari e Amministrativa: Attività Produttive - Attività Culturali - Economato e informatica
A2: RESPONSABILE: | B2: DAL BOSCO EMANUELA
A3: PESO IN %
A5: MISSIONE: 5 PROGRAMMA: | B5: OBIETTIVO N. 9 - 2024 | C5: Tutela e valorizzazione dei beni e delle attività culturali e promozione degli spazi di comunità del nostro Comune
A6: OBIETTIVO DUP 2019 - 2024 | C6: "Casette del libro" - installare le casette del libro lungo le ciclabili
A9: A.1 | B9: DESCRIZIONE | C9: Progetto "Prendi un libro, porta un libro", libri accessibili a tutti, gratuitamente.
A10: A.2 | B10: FINALITA' | C10: Accrescere il senso di comunità e la creatività attraverso lo scambio gratuito di libri ispirato dall’amore per la lettura e la conoscenza, installando le "Casette del Libro" lungo le ciclabili e nei parchi pubblici in cui i cittadini potranno prendere e lasciare libri.
A12: A.3 | B12: AZIONI E TEMPI - FASI | C12: Fase 1: Definizione luoghi installazione Casette del Libro entro il 30/06/2022 - ATTUATA
C13: Fase 2: Realizzazione delle Casette del Libro entro 31/07/2022; INSTALLAZIONE DEL PRIMO LOTTO DI CASETTE ENTRO IL 31/12/2022 definizione accordi di collaborazione con associazione di volontariato per la realizzazione del progetto entro il 30/06/2025
C14: Fase 3: Realizzazione delle Casette del Libro entro 31/07/2022; 30/06/2023; 31/08/2025
C15: Fase 4: Installazione Casette del Libro entro il 31/08/2022; 30/09/2023; 30/09/2025
C16: Fase 5: Attivazione del servizio Casette del Libro entro 04/09/2022; 31/10/2025;
A18: A.4 | B18: DATA PRESUMIBILE REALIZZO | C18: 31/10/2023 - 31/10/2025
A20: A.5 | B20: RESPONSABILE DELL'OBIETTIVO | C20: Responsabile SUAP -Cultura
A22: A.6 | B22: PERSONALE DELL'AREA COINVOLTO | C22: Personale SUAP - Cultura
A24: A.7 | B24: ALTRI SERVIZI COINVOLTI | C24: Società partecipata ASEP srl
A26: A.8 | B26: RISORSE FINANZIARIE
A28: A.9 | B28: INDICATORI DI EFFICIENZA
A30: A.9 | B30: INDICATORI DI EFFICACIA
A32: A.9 | B32: INDICATORI DI ECONOMICITA'
A35: A,10 | B35: CRITICITA'
A37: A.11 | B37: VERIFICHE | C37: Verifica intermedia: REALIZZATA FASE 1: 25% - termine obiettivo riprogrammato al 2025
C38: Verifica finale: da completare nelle fasi 2), 3), 4) e 5). Obiettivo da rivedere tenendo conto delle nuove linee programmatiche e del DUP. Punti 1), 2), 3) realizzati. Punti 4) e 5) in corso di realizzazione entro il 31/07/2025.
C39: Il Responsabile di Posizione Organizzativa
C40: dott.ssa Emanuela Dal Bosco

Sheet scheda obiettivo 2022 valoriz
A1: Area Servizi Finanziari e Amministrativa: Attività Produttive - Attività Culturali - Economato e informatica
A2: RESPONSABILE: | B2: DAL BOSCO EMANUELA
A3: PESO IN %
A5: MISSIONE: PROGRAMMA: | B5: OBIETTIVO N. 10 - 2024 | C5: Tutela e valorizzazione dei beni e delle attività culturali
A6: OBIETTIVO DUP 2019 - 2024 | C6: Riorganizzare la biblioteca e i servizi collegati
A9: A.1 | B9: DESCRIZIONE | C9: Regolamento servizio pubblico erogato dalle Biblioteche Comunali
A10: A.2 | B10: FINALITA' | C10: Garantire sempre più a tutte le persone, il libero accesso all’informazione e alla conoscenza.
A12: A.3 | B12: AZIONI E TEMPI - FASI | C12: Fase 1: Stesura prima bozza Regolamento Biblioteche Comunali entro il 31/08/2022; 31/10/2025
C13: Fase 2: Approvazione Regolamento Biblioteche Comunali entro 31/10/2022; 30/11/2025
C14: Fase 3: Attuazione contenuti Regolamento Biblioteche Comunali 31/12/2022; 31/12/2025
A17: A.4 | B17: DATA PRESUMIBILE REALIZZO | C17: 46022
A19: A.5 | B19: RESPONSABILE DELL'OBIETTIVO | C19: Responsabile SUAP -Cultura
A21: A.6 | B21: PERSONALE DELL'AREA COINVOLTO | C21: Personale SUAP - Cultura
A23: A.7 | B23: ALTRI SERVIZI COINVOLTI | C23: Società partecipata ASEPsrl
A25: A.8 | B25: RISORSE FINANZIARIE
A27: A.9 | B27: INDICATORI DI EFFICIENZA
A29: A.9 | B29: INDICATORI DI EFFICACIA
A31: A.9 | B31: INDICATORI DI ECONOMICITA'
A34: A,10 | B34: CRITICITA'
A36: A.11 | B36: VERIFICHE | C36: Verifica intermedia: riprogrammato al 2025
C37: Verifica finale: da riprogrammare tenendo conto delle nuove linee programmatiche e del DUP. Approvato il Regolamento con DCC n. 16+ del 29/04/2025 e attivazione contenuti dello stesso.
C39: Il Responsabile di Posizione Organizzativa
C40: dott.ssa Emanuela Dal Bosco

Sheet scheda obiettivo 2022 telefonia
A1: Area Servizi Finanziari e Amministrativa: Attività Produttive - Attività Culturali - Economato e informatica
A2: RESPONSABILE: | B2: DAL BOSCO EMANUELA
A3: PESO IN %
A5: MISSIONE: PROGRAMMA: | B5: OBIETTIVO N. 11 - 2024 | C5: Miglioramento in termini di efficienza ed efficacia dell'infrastruttura tecnologiche dell'Ente ai fini della connettivià internet e telefonia
A6: OBIETTIVO DUP 2019 - 2024 | C6: Potenziare ulteriormente gli strumenti informatici
A9: A.1 | B9: DESCRIZIONE | C9: Portare a termine le procedure necessarie affinchè l'infrastruttura tecnologica dell'Ente e la conseguente capacità di connessione internet e telefonica possa accrescere in termini di efficienza ed efficacia, secondo quanto indicato dalla delibra di Giunta Comunale n. 172 del 23/12/2022
A10: A.2 | B10: FINALITA' | C10: Favorire l'insediamento della fibra ottica sul territorio comunale per migliorare la qualità dei servizi digitali ai cittadini, garantire la competitività delle imprese sul territorio e migliorare il servizio di fonia e dati presso gli immobili di proprietà dell'Ente transitando ad una tecnologia più evoluta rispetto a quella attuale
A12: A.3 | B12: AZIONI E TEMPI - FASI
A16: A.4 | B16: DATA PRESUMIBILE REALIZZO | C16: 46022
A18: A.5 | B18: RESPONSABILE DELL'OBIETTIVO | C18: Responsabile Servizi Informatici
A20: A.6 | B20: PERSONALE DELL'AREA COINVOLTO | C20: Personale Servizi Informatici ed Economato
A22: A.7 | B22: ALTRI SERVIZI COINVOLTI
A24: A.8 | B24: RISORSE FINANZIARIE | C24: Assegnate ai Servizi Informatici
A26: A.9 | B26: INDICATORI DI EFFICIENZA
A28: A.9 | B28: INDICATORI DI EFFICACIA
A30: A.9 | B30: INDICATORI DI ECONOMICITA'
A33: A,10 | B33: CRITICITA'
A35: A.11 | B35: VERIFICHE | C35: Verifica intermedia: riprogrammato al 2025
C36: Verifica finale: da riprogrammare tenendo conto delle nuove linee programmatiche e del DUP.
C38: Il Responsabile di Posizione Organizzativa

Sheet scheda obiettivo 2022 PNRR DIGI
A1: Area Servizi Finanziari e Amministrativa: Attività Produttive - Attività Culturali - Economato e informatica
A2: RESPONSABILE: | B2: DAL BOSCO EMANUELA
A3: PESO IN %
A5: MISSIONE: PROGRAMMA: | B5: OBIETTIVO N. 12 - 2024 | C5: Implementazione dei servizi previsti dai bandi PNRR digitale
A6: OBIETTIVO DUP 2019 - 2024 | C6: Potenziare ulteriormente gli strumenti informatici
A9: A.1 | B9: DESCRIZIONE | C9: Dare seguito all’aggiudicazione delle risorse relative ai bandi PNRR digitale tramite l’implementazione dei servizi previsti dagli stessi secondo le modalità e tempi stabiliti.
A10: A.2 | B10: FINALITA' | C10: Semplificare al massimo la burocrazia e i tempi di attesa, migliorando l’accesso ai servizi e rendendo l’attività amministrativa più trasparente
A12: A.3 | B12: AZIONI E TEMPI - FASI | C12: Fase 1: partecipazione nuovi bandi PNRR anno 31/01/2023.
C13: Fase 2: individuazione fornitori e affidamento servizi entro il 30/11/2023.
C14: Fase 3: realizzazione interventi servizi entro 30 novembre 2024.
A16: A.4 | B16: DATA PRESUMIBILE REALIZZO
A18: A.5 | B18: RESPONSABILE DELL'OBIETTIVO | C18: Responsabile Servizi Informatici
A20: A.6 | B20: PERSONALE DELL'AREA COINVOLTO
A22: A.7 | B22: ALTRI SERVIZI COINVOLTI
A24: A.8 | B24: RISORSE FINANZIARIE | C24: risorse derivanti dai bandi PNRR
A26: A.9 | B26: INDICATORI DI EFFICIENZA
A28: A.9 | B28: INDICATORI DI EFFICACIA
A30: A.9 | B30: INDICATORI DI ECONOMICITA'
A33: A,10 | B33: CRITICITA'
A35: A.11 | B35: VERIFICHE | C35: Verifica intermedia: Fase 1 e 2 attuata - realizzato al 60%
C36: Verifica finale: Realizzati al 100%: Misura 1.4.3 APP IO - Missione 1 Componente 1 del PNRR - Investimento 1.4 “SERVIZI E CITTADINANZA DIGITALE”; Misura 1.4.3 PagoPA' COMUNI - Missione 1 Componente 1 del PNRR - Investimento 1.4 “SERVIZI E CITTADINANZA DIGITALE"; Misura 1.3.1. Piattaforma Digitale Nazionale Dati - COMUNI - PNRR M1C1 Investimento 1.3 “DATI E INTEROPERABILITÀ”; Misura 1.4.5 Piattaforma Notifiche Digitali (Comuni) - PNRR M1C1 Investimento 1.4 “SERVIZI E CITTADINANZA DIGITALE”; Verifica al 31/12/2024 superate positivamente le verifiche di conformità tecnica Misura Investimento 1.2 Abilitazione al Cloud per le PA locali Comuni (aprile 2022) M1C1
C38: Il Responsabile di Posizione Organizzativa

Sheet PUTTINI
C3: Comune di Porto Mantovano
C7: Piano degli Obiettivi 2024 - 2026
B15: SETTORE SERVIZI ALLA PERSONA
C16: DOTT.SSA ANNA KATIA PUTTINI

Sheet scheda obiettivo 1 2024
A1: Area ___________________________ Settore_________________________________
A2: RESPONSABILE: | B2: ANNA PUTTINI
A3: PESO IN %
A5: MISSIONE: PROGRAMMA: | B5: OBIETTIVO N. 13 - 2024 | C5: SERVIZIO DI TRASPORTO SCOLASTICO. NUOVO AFFIDAMENTO
A6: OBIETTIVO DUP 2019 - 2024
A9: A.1 | B9: DESCRIZIONE | C9: Il servizio trasporto scolastico è istituito come intervento volto ad agevolare la frequenza e l’integrazione al sistema scolastico degli alunni, salvaguardando il principio del diritto allo studio. E’ intervento diretto che assicura la frequenza scolastica degli alunni alle scuole dell’infanzia, primaria e secondaria di primo grado del territorio comunale e stabilisce che il servizio di trasporto scolastico debba essere svolto in condizioni di sicurezza idonee a garantire la protezione dei soggetti trasportati. Il Comune di Porto Mantovano ha attivo il servizio di trasporto scolastico, assistenza e accompagnamento scuolabus per gli alunni frequentanti le scuole dell’infanzia, primaria e secondaria di primo grado del comune di Porto Mantovano. Con Deliberazione n. 67 del 26/07/2022 si è provveduto ad affidare la gestione dei servizi di trasporto scolastico, assistenza e accompagnamento scuolabus per gli alunni frequentanti le scuole dell'infanzia, primaria e secondaria di primo grado del comune di Porto Mantovano per due (2) anni scolastici 2022/2023-2023/2024. E' necessario pertanto provvedere a definire le modalità di nuovo affidamento del servizio di trasporto scolastico a partire dal 01,09,2024
A10: A.2 | B10: FINALITA' | C10: Ai sensi dell’art. 112 comma 1 del D.lgs. 18 agosto 2000 n. 267 “Gli enti locali, nell'ambito delle rispettive competenze, provvedono alla gestione dei servizi pubblici che abbiano per oggetto produzione di beni ed attività rivolte a realizzare fini sociali e a promuovere lo sviluppo economico e civile delle comunità locali.” Il servizio di trasporto scolastico, è un servizio pubblico locale ( art. 2 del D.lgs. 201/2022 lettera c.) servizio di interesse generale volto a soddisfare i bisogni di una comunità indifferenziata di cittadini, non solo in termini economici, ma anche in termini di promozione sociale e, come tale, non può essere sospeso.
A12: A.3 | B12: AZIONI E TEMPI - FASI | C12: fase 1) entro 31/03/2024 verifica organizzazione trasporto anno scolastico
C14: fase 2) entro 31/07/2024 predisposizione atti per affidamento
A16: A.4 | B16: DATA PRESUMIBILE REALIZZO | C16: 45535
A18: A.5 | B18: RESPONSABILE DELL'OBIETTIVO | C18: responsabile Area servizi alla Persona
A20: A.6 | B20: PERSONALE DELL'AREA COINVOLTO | C20: servizi scolastici
A22: A.7 | B22: ALTRI SERVIZI COINVOLTI | C22: servizi finanziari
A24: A.8 | B24: RISORSE FINANZIARIE | C24: risorse assegnate ai servizi scolastici
A26: A.9 | B26: INDICATORI DI EFFICIENZA | C26: rispetto della tempistica di realizzazione dell'obiettivo
A28: A.9 | B28: INDICATORI DI EFFICACIA | C28: rispetto della tempistica di realizzazione dell'obiettivo
A30: A.9 | B30: INDICATORI DI ECONOMICITA'
A33: A,10 | B33: CRITICITA'
A35: A.11 | B35: VERIFICHE | C35: Verifica intermedia: realizzato al 100%
C36: Verifica finale: realizzato al 100%
C38: Il Responsabile di Posizione Organizzativa

Sheet scheda obiettivo 2  2024 
A1: Area ___________________________ Settore_________________________________
A2: RESPONSABILE: | B2: ANNA PUTTINI
A3: PESO IN %
A5: MISSIONE: PROGRAMMA: | B5: OBIETTIVO N. 14 - 2024 | C5: NUOVA ATTIVAZIONE SERVIZIO PEDIBUS E BICIBUS
A6: OBIETTIVO DUP 2019 - 2024
A9: A.1 | B9: DESCRIZIONE | C9: I servizi di pedibus e bicibus sono forme di trasporto scolastico per gli alunni dellesciole primarie e secondarie di 1° che vengono accompagnati a piedi a scuola da adulti con le stesse modalità (percorsi, fermate) dello scuolabus. In pratica, i bambini, anziché prendere l'autobus o lo scuolabus, alla fermata si aggregano ad una comitiva guidata da alcuni addetti giungendo fino a scuola, e compiendo il percorso inverso ritornando a casa. I servizi erano già stati attivati in passato, a causa Covid si sono interroti e non sono più riapartiti
A10: A.2 | B10: FINALITA' | C10: La finalità è promuovere l'esercizio fisico nei bambini educandoli a muoversi a piedi o in bicicletta preferendo, nelle piccole distanze, queste modalità all'auto o al trasporto pubblico. Lo scopo principale è di educare ad una cultura ambientale e salutistica. Il progetto in definitiva, nato con lo specifico scopo di combattere il crescente fenomeno dell'obesità infantile, oltre a promuovere la socializzazione e l'autostima dei bambini e cosa non secondaria ridurre il traffico veicolare nei pressi delle scuole giovando più in generale all'ambiente.
A12: A.3 | B12: AZIONI E TEMPI - FASI | C12: fase 1) entro 31/03/2024 organizzazione con acquisto materiali di sicurezza quali carrello porta zaino, copri-zaino impermeabile riflettente, mantelle per proteggersi in caso di pioggia e gilet di sicurezza;
C14: fase 2) entro 30/04/2024 attivazione servizi
A16: A.4 | B16: DATA PRESUMIBILE REALIZZO | C16: INIZIO ANNO SCOLASTICO 2024/2025
A18: A.5 | B18: RESPONSABILE DELL'OBIETTIVO | C18: responsabile Area servizi alla Persona
A20: A.6 | B20: PERSONALE DELL'AREA COINVOLTO | C20: servizi scolastici
A22: A.7 | B22: ALTRI SERVIZI COINVOLTI | C22: servizi finanziari
A24: A.8 | B24: RISORSE FINANZIARIE | C24: risorse assegnate ai servizi scolastici
A26: A.9 | B26: INDICATORI DI EFFICIENZA | C26: rispetto della tempistica di realizzazione dell'obiettivo
A28: A.9 | B28: INDICATORI DI EFFICACIA | C28: rispetto della tempistica di realizzazione dell'obiettivo
A30: A.9 | B30: INDICATORI DI ECONOMICITA'
A33: A,10 | B33: CRITICITA'
A35: A.11 | B35: VERIFICHE | C35: Verifica intermedia: le verifiche per l'attivazione dei servizi pedibus e bicibus per l'anno scolastico 2024/2025 sono state effettuate da questo servizio. La difficoltà nel reperire volontari non ha permessso la partenza di entrambi i servizi. Al 30/09 in partenza il pedibus su due percorsi :primaria Bancole e primaria S.Antonio. Obiettivo da riproporre nel 2025 . Per quanto di competenza realizzato al 100%
C36: Verifica finale: Causa la difficoltà nel reperire la disponibilità dei volontari e la successiva gestione non si è riusciti ad attivare il servizio prima del 21/10 . Il servizio è poi partito su due percorsi :primaria Bancole e primaria S.Antonio. Obiettivo da riproporre nel 2025 . Per quanto di competenza realizzato al 100%
C38: Il Responsabile di Posizione Organizzativa

Sheet scheda obiettivo 3  2024
A1: Area ___________________________ Settore_________________________________
A2: RESPONSABILE: | B2: ANNA PUTTINI
A3: PESO IN %
A5: MISSIONE: PROGRAMMA: | B5: OBIETTIVO N. 15 - 2024 | C5: NUOVO AFFIDAMENTO PER I SERVIZI DI ASSISTENZA SCOLASTICA AD PERSONAM, PRE SCUOLA, POST SCUOLA, ASSISTENZA DURANTE IL PASTO
A6: OBIETTIVO DUP 2019 - 2024
A9: A.1 | B9: DESCRIZIONE | C9: L'Amministrazione comunale, come previsto dalla legislazione vigente e nei limiti delle proprie disponibilità, attua interventi finalizzati a garantire il diritto allo studio e l'integrazione di alunni a rischio di emarginazione sociale; Agli Isitituti scolastici in cui sono frequentanti alunni residenti nel Comune di Porto Mantovano, sono assegnate figure educative che affianchino gli alunni portatori di handicap, ai sensi della suddetta legge 104/92, e in disagio scolastico. Inoltre sono attivati servizi di pre post scuola e assistenza durante il pasto con la presenza di educatori . L'attuale affidamento è in scadenza il 30/06/2024.
A10: A.2 | B10: FINALITA' | C10: La finalità è di dare riscontro rispondere alle richieste di figure educative inviate dai vari Istituti della Provincia di Mantova per il sostegno degli alunni portatori di handicap e in disagio scolastico . Inoltre, nell'ambito degli interventi a sostegno della famiglia, si organizzano servizi: • prescuola e postscuola, per gli alunni delle scuole dell’infanzia e primaria del capoluogo, a sostegno delle famiglie che necessitano di anticipare e/o posticipare la permanenza a scuola, per necessità di carattere familiare o specifiche esigenze di orari e turni di lavoro dei genitori/tutori; • assistenza con educatore in mensa, per garantire l'attuazione del tempo pieno e del tempo scuola con mensa.
A12: A.3 | B12: AZIONI E TEMPI - FASI | C12: fase 1) entro 31/03/2024 Attodi indirizzo per affidamento dei servizi di assistenza scolastica ad personam, prescuola, postscuola, assistenza durante il pasto, dal 01/09/2024 al 30/06/2026.
C13: fase 2) entro 30/04/2024 predisposizione atti per manifestazsione di interesse
C14: fase 3) entro 30/05/2024 predisposizione atti di gara
C15: fase 4) entro 31/07/2024 aggiudicazione
A17: A.4 | B17: DATA PRESUMIBILE REALIZZO | C17: 45504
A19: A.5 | B19: RESPONSABILE DELL'OBIETTIVO | C19: responsabile Area servizi alla Persona
A21: A.6 | B21: PERSONALE DELL'AREA COINVOLTO | C21: tutto il personale dell'area
A23: A.7 | B23: ALTRI SERVIZI COINVOLTI | C23: servizi finanziari
A25: A.8 | B25: RISORSE FINANZIARIE | C25: risorse assegnate all'area
A27: A.9 | B27: INDICATORI DI EFFICIENZA | C27: rispetto della tempistica di realizzazione dell'obiettivo
A29: A.9 | B29: INDICATORI DI EFFICACIA | C29: rispetto della tempistica di realizzazione dell'obiettivo
A31: A.9 | B31: INDICATORI DI ECONOMICITA'
A34: A,10 | B34: CRITICITA'
A36: A.11 | B36: VERIFICHE | C36: Verifica intermedia: Questo Comune è privo di qualificazione necessaria, quale stazione appaltante, di cui al decreto legislativo n. 36/2023 artt.62 e 63, per acquisire lavori, beni e servizi pertanto è stata inviata richiesta ad ARIA-Regione Lombardia- di operare come Stazione Unica Appaltante (SUA) .Aria ha risposto di non essere i grado per problemi organizzativi. E' stata fatta pertanto proproga dal 01/09/2024 al 28/02/2025. Per quanto di competenza realizzato al 100%
C37: Verifica finale: a seguito della DCC n.70 del 29/11/2024 relativa all’adesione alla Centrale Unica di Committenza (CUC) Area Vasta Brescia, Sede Territoriale della Valle Trompia sarà gestita l’istruttoria per l’affidamento dei servizi di assistenza scolastica ad personam, pre scuola, post scuola, assistenza durante il pasto, per il periodo dal 01/03/2025 al 30/06/2026, mediante gara telematica -Per quanto di competenza realizzato al 100%
C39: Il Responsabile di Posizione Organizzativa

Sheet MOFFA
C3: Comune di Porto Mantovano
C7: Piano degli Obiettivi 2024 - 2026
B15: SETTORE UFFICIO TECNICO E AMBIENTE
C16: ARCH. ROSANNA MOFFA

Sheet 1 - moffa pgt
A1: Area TECNICA : SETTORE GESTIONE DEL TERRITORIO
A2: RESPONSABILE | B2: ROSANNA MOFFA
A4: MISSIONE: 8 PROGRAMMA: 1 | B4: OBIETTIVO N. 16 - 2024 | C4: FASE SUCCESSIVA ALL'APPROVAZIONE DEL PGT E GESTIONE PIANI ATTUATIVI
A6: OBIETTIVO DUP 2019 - 2024
A8: A.1 | B8: DESCRIZIONE | C8: A seguito dell'approvazione definitiva del PGT e della sua efficacia, ha avuto inizio la fase dell'applicazione delle norme nuove e decadenza delle precedenti. Come pure è in corso la fase di attuazione delle scelte strategiche e di pianificazione attuativa, con conseguenti specifici approfondimenti e procedure burocratiche di approvazione. Verrà attivata anche la fase di monitoraggio ambientale.
A9: A.2 | B9: FINALITA' | C9: Gestire le richieste di interventi diretti (PdC o DIA), PdC convenzionati e di piani attuativi (PA) sul territorio, previsti dal PGT, valutando le eventuali incongruenze che probabilmente si presenteranno, individuando le modalità per la loro risoluzione. Collaborazione con settore Ecologia e LL.PP./Manutentivo, per l'individuazione di iniziative pubbliche da perseguire con le pianificazioni attuative e con i PdC convenzionati, nonchè per le procedure di monitoraggio ambientale. Promuovere la presentazione di altri piani attuativi. Dare attuazione alla LR 18/2019 in tema di rigenerazione urbana collaborando attivamente con i progettisti incaricati alla redazione del materiale oggetto delle varie delibere di Consiglio Comunale
A11: A.3 | B11: AZIONI E TEMPI | C11: Fase 1. Rapporto di consultazione: questa fase anticipa la progettazione ed è caratterizzata dalla necessaria consultazione, con l'Amministrazione, dei proponenti, per le valutazioni di compatibilità e per far recepire gli obiettivi strategici dell'Amministrazione. Non è prevista una tempistica, dovendo raggiungersi una condivisione, tra le parti, degli obiettivi da conseguire. SI
C12: Fase 2. Analisi proposta preliminare di fattibilità: in considerazione delle risultanze del confronto tra le parti, dovrà discendere una proposta preliminare con una documentazione minima da sottoporre agli organismi di partecipazione istituiti dal Consiglio Comunale, cui farà seguito il pronunciamento dell'Amministrazione: tempo previsto 60 gg. SI
C13: Fase 3. Approvazione: In caso di Piano Attuativo dovrà seguirsi la procedura di cui all'art. 14 della LR 12/05, con coinvolgimento della giunta o del consiglio, in funzione delle determinazioni assunte con il PGT. I tempi sono stabiliti dalla normativa (art.14 LR. 12/05). Le procedure comportano la predisposizione della convenzione che regolerà i rapporti tra le parti, l'Adozione e la successiva pubblicazione per le osservazioni e quindi l'Approvazione definitiva. In caso di PdC convenzionato, si dovrà redigere e approvare la convenzione tra le parti con precedente trattativa. SI
C14: Fase 4. Seguire l'attuazione del piano nelle fasi di collaudo in corso d'opera, nella realizzazione delle eventuali opere compensative e nella fase finale di completamento e cessione gratuita delle opere al comune SI
C15: Fase 5 . Monitoraggio: Segue la fase di attuazione e comporta la collaborazione con altri settori. SI
C16: Fase 6 in tema di RIGENERAZIONE LEGGE 18/2019: 1. individuazione degli ambiti di rigenerazione, per i quali i Comuni possono prevedere azioni di semplificazione dei procedimenti e di incentivazione anche economica, usi temporanei e sviluppo di studi di fattibilità economica e urbanistica (rif. art. 8 bis, c. 1 della l.r. n. 12 del 2005; art. 3, c. 1, lett. k della l.r. n. 18 del 2019); 2. individuazione degli ambiti di esclusione dall'applicazione della disciplina per il recupero dei piani terra - estensione delle norme per il recupero dei seminterrati ex lege n. 7 del 2017 anche ai piani terra - (rif. art. 8, c. 2 della l.r. n. 18 del 2019); 3. individuazione degli immobili dismessi che causano particolari criticità per salute, sicurezza idraulica e strutturale, inquinamento, degrado ambientale e urbanistico-edilizio (rif. art. 40 bis, c.1 della l.r. n. 12 del 2005; art. 4, c. 1 lett. a della l.r. n. 18 del 2019); 4. individuazione delle aree escluse dall'applicazione delle deroghe e degli incentivi volumetrici previsti dai commi 5 e 10 dell’art. 40 bis (rif. art. 40 bis, c.1 della l.r. n. 12 del 2005; art. 4, c. 1 lett. a della l.r. n. 18 del 2019); 5. modulazione: o delle percentuali di aumento dell’indice di edificabilità massimo del PGT, come indicate nella D.g.r. 5 agosto 2020 - n. XI/3508 “Approvazione dei criteri per l’accesso all’incremento dell’indice di edificabilità massimo del PGT (art. 11, comma 5 della l.r. 12/05)” o delle percentuali di riduzione del contributo di costruzione indicate nella D.g.r. 5 agosto 2020 - n. XI/3509 “criteri per l’accesso alla riduzione del contributo di costruzione (art. 43 comma 2 quinquies della l.r. 12/05)”, secondo principi di adeguatezza e proporzionalità, in base alla peculiarità del proprio territorio e delle specifiche strategie di governo ad esse sottese;
C17: Fase 7 - redazione e approvazione PEBA - A fine dicembre 2023 è stato affidato l’incarico per la redazione del P.E.B.A. (Piano di eliminazione delle barriere architettoniche) ai sensi della Legge n. 41/1986 e successiva Legge 104/1992, della LR 14 del 9/6/2020 che ha previsto il “Registro regionale dei piani di eliminazione delle barriere architettoniche” e della DGR XI/5555 del 23/11/2021 Linee Guida di Regione Lombardia per la redazione dei PEBA - Piani per l’accessibilità e usabilità dell’ambiente costruito, inclusione sociale e benessere ambientale. Il Piano ha lo scopo di individuare, classificare, mappare e pianificare interventi necessari al superamento delle barriere architettoniche (fisiche e sensoriali) al fine di consentire a tutti l’accessibilità ad edifici, servizi e spazi pubblici favorendo l’integrazione sociale, la sicurezza, la qualità della vita e la mobilità di tutti i cittadini.
A19: A.4 | B19: DATA PRESUMIBILE REALIZZO | C19: 46387
A21: A.5 | B21: RESPONSABILE DELL'OBIETTIVO | C21: Rosanna Moffa
A23: A.6 | B23: PERSONALE DELL'AREA COINVOLTO | C23: Elena Bombana, Idalisa Fiorini
A25: A.7 | B25: ALTRI SERVIZI COINVOLTI | C25: Ecologia, LL.PP./ Manutentivo, Viabilità
A27: A.8 | B27: RISORSE FINANZIARIE | C27: non sono prevedibili oneri in capo all'Amminsitrazione Comunale
A29: A.9 | B29: INDICATORI DI EFFICIENZA
A31: A.9 | B31: INDICATORI DI EFFICACIA | C31: promuovere l'avvio di alcuni ambiti di trasformazione importanti e strategici per il territorio comunale: PIANO DI LOTTIZZAZIONE ARTIGIANALE MALPENSATA GOMBETTO 2 (stipulata in gennaio 2024 nuova convenzione urbanistica), AT 001 CORTE FORNASOTTO (proposta di piano istruita dall'ufficio e in attesa di integrazioni da parte della ditta lottizzante) e AT 008 Corte Ardena. Seguire lo sviluppo e la chiusura di altri piani in fase di completamento: AT 023 Corte Baitone (in corso di attuazione), AT 025 Corte Tezze (presentata Variante al PL già approvato), AT_013 VILLA FAVORITA (in corso di attuazione) , AT 005 PL Spinosa (in corso attuazione), AT 004 sub comparti A (in corso l'attuazione - variante già approvata), AT 004 sub comparto B (in corso di attuazione), Piano di Recupero Corte Spinosa in ambito agricolo approvato in gennaio 2021, convenzionato in marzo 2021 ed in corso di attuazione. Dare attuazione agli adempimenti previsti nella LR 18/2019. Approvare il PEBA.
A32: A.9 | B32: INDICATORI DI ECONOMICITA' | C32: previsione di opere pubbliche compensative nelle convenzione urbanistiche dei vari piani attuativi o PdC convenzionati
A35: A.10 | B35: CRITICITA'
